BEGIN:VCALENDAR
VERSION:2.0
PRODID:-//advance.aflopez.com - ECPv6.15.20//NONSGML v1.0//EN
CALSCALE:GREGORIAN
METHOD:PUBLISH
X-ORIGINAL-URL:https://crazy4bugs.dvagtc.com
X-WR-CALDESC:Events for advance.aflopez.com
REFRESH-INTERVAL;VALUE=DURATION:PT1H
X-Robots-Tag:noindex
X-PUBLISHED-TTL:PT1H
BEGIN:VTIMEZONE
TZID:America/New_York
BEGIN:DAYLIGHT
TZOFFSETFROM:-0500
TZOFFSETTO:-0400
TZNAME:EDT
DTSTART:20250309T070000
END:DAYLIGHT
BEGIN:STANDARD
TZOFFSETFROM:-0400
TZOFFSETTO:-0500
TZNAME:EST
DTSTART:20251102T060000
END:STANDARD
BEGIN:DAYLIGHT
TZOFFSETFROM:-0500
TZOFFSETTO:-0400
TZNAME:EDT
DTSTART:20260308T070000
END:DAYLIGHT
BEGIN:STANDARD
TZOFFSETFROM:-0400
TZOFFSETTO:-0500
TZNAME:EST
DTSTART:20261101T060000
END:STANDARD
BEGIN:DAYLIGHT
TZOFFSETFROM:-0500
TZOFFSETTO:-0400
TZNAME:EDT
DTSTART:20270314T070000
END:DAYLIGHT
BEGIN:STANDARD
TZOFFSETFROM:-0400
TZOFFSETTO:-0500
TZNAME:EST
DTSTART:20271107T060000
END:STANDARD
END:VTIMEZONE
BEGIN:VEVENT
DTSTART;TZID=America/New_York:20260331T140000
DTEND;TZID=America/New_York:20260331T153000
DTSTAMP:20260423T181415
CREATED:20260324T202958Z
LAST-MODIFIED:20260325T005715Z
UID:2901-1774965600-1774971000@crazy4bugs.dvagtc.com
SUMMARY:Butterfly: Who am I
DESCRIPTION:Butterflies are the small wonder of the sky. Let’s do our part to keep them alive and safe. Learn how to make mini gardens for these critters and fun facts about them too. 
URL:https://crazy4bugs.dvagtc.com/event-calendar/butterfree/
CATEGORIES:Butterflies
END:VEVENT
END:VCALENDAR