BEGIN:VCALENDAR
VERSION:2.0
PRODID:-//advance.aflopez.com - ECPv6.15.20//NONSGML v1.0//EN
CALSCALE:GREGORIAN
METHOD:PUBLISH
X-ORIGINAL-URL:https://crazy4bugs.dvagtc.com
X-WR-CALDESC:Events for advance.aflopez.com
REFRESH-INTERVAL;VALUE=DURATION:PT1H
X-Robots-Tag:noindex
X-PUBLISHED-TTL:PT1H
BEGIN:VTIMEZONE
TZID:America/New_York
BEGIN:DAYLIGHT
TZOFFSETFROM:-0500
TZOFFSETTO:-0400
TZNAME:EDT
DTSTART:20250309T070000
END:DAYLIGHT
BEGIN:STANDARD
TZOFFSETFROM:-0400
TZOFFSETTO:-0500
TZNAME:EST
DTSTART:20251102T060000
END:STANDARD
BEGIN:DAYLIGHT
TZOFFSETFROM:-0500
TZOFFSETTO:-0400
TZNAME:EDT
DTSTART:20260308T070000
END:DAYLIGHT
BEGIN:STANDARD
TZOFFSETFROM:-0400
TZOFFSETTO:-0500
TZNAME:EST
DTSTART:20261101T060000
END:STANDARD
BEGIN:DAYLIGHT
TZOFFSETFROM:-0500
TZOFFSETTO:-0400
TZNAME:EDT
DTSTART:20270314T070000
END:DAYLIGHT
BEGIN:STANDARD
TZOFFSETFROM:-0400
TZOFFSETTO:-0500
TZNAME:EST
DTSTART:20271107T060000
END:STANDARD
END:VTIMEZONE
BEGIN:VEVENT
DTSTART;TZID=America/New_York:20260410T100000
DTEND;TZID=America/New_York:20260410T170000
DTSTAMP:20260423T181307
CREATED:20260325T014305Z
LAST-MODIFIED:20260325T014305Z
UID:2973-1775815200-1775840400@crazy4bugs.dvagtc.com
SUMMARY:Draw a Buggy Model
DESCRIPTION:Some artist have visited the Bugtopia come watch them Caterpillars\, Butterflies\, and Moths. Ask questions artist tricks and tips\, and take some small classes from them. 
URL:https://crazy4bugs.dvagtc.com/event-calendar/draw-a-buggy-model/
CATEGORIES:Buggy
END:VEVENT
END:VCALENDAR