BEGIN:VCALENDAR
VERSION:2.0
PRODID:-//advance.aflopez.com - ECPv6.15.20//NONSGML v1.0//EN
CALSCALE:GREGORIAN
METHOD:PUBLISH
X-WR-CALNAME:advance.aflopez.com
X-ORIGINAL-URL:https://crazy4bugs.dvagtc.com
X-WR-CALDESC:Events for advance.aflopez.com
REFRESH-INTERVAL;VALUE=DURATION:PT1H
X-Robots-Tag:noindex
X-PUBLISHED-TTL:PT1H
BEGIN:VTIMEZONE
TZID:America/New_York
BEGIN:DAYLIGHT
TZOFFSETFROM:-0500
TZOFFSETTO:-0400
TZNAME:EDT
DTSTART:20250309T070000
END:DAYLIGHT
BEGIN:STANDARD
TZOFFSETFROM:-0400
TZOFFSETTO:-0500
TZNAME:EST
DTSTART:20251102T060000
END:STANDARD
BEGIN:DAYLIGHT
TZOFFSETFROM:-0500
TZOFFSETTO:-0400
TZNAME:EDT
DTSTART:20260308T070000
END:DAYLIGHT
BEGIN:STANDARD
TZOFFSETFROM:-0400
TZOFFSETTO:-0500
TZNAME:EST
DTSTART:20261101T060000
END:STANDARD
BEGIN:DAYLIGHT
TZOFFSETFROM:-0500
TZOFFSETTO:-0400
TZNAME:EDT
DTSTART:20270314T070000
END:DAYLIGHT
BEGIN:STANDARD
TZOFFSETFROM:-0400
TZOFFSETTO:-0500
TZNAME:EST
DTSTART:20271107T060000
END:STANDARD
END:VTIMEZONE
BEGIN:VEVENT
DTSTART;TZID=America/New_York:20260430T000000
DTEND;TZID=America/New_York:20260502T235959
DTSTAMP:20260423T163546
CREATED:20260325T011533Z
LAST-MODIFIED:20260325T011533Z
UID:2963-1777507200-1777766399@crazy4bugs.dvagtc.com
SUMMARY:Summer Volunteer
DESCRIPTION:Missed spring’s registration\, no worries! here’s a chance to register for summer position: Feeding\, house maintenance\, future events preparation\, and tour guides. 
URL:https://crazy4bugs.dvagtc.com/event-calendar/summer-volunteer/
CATEGORIES:Volunteer Sessions
END:VEVENT
END:VCALENDAR